BEGIN:VCALENDAR
PRODID:-//AT Content Types//AT Event//EN
VERSION:2.0
METHOD:PUBLISH
BEGIN:VEVENT
DTSTAMP:20260423T035104Z
CREATED:20110119T093000Z
UID:ATEvent-d8c48f51b15571aa178ab20f731fe834
LAST-MODIFIED:20110119T093025Z
SUMMARY:ESP-EDA
DTSTART:20110404T140000Z
DTEND:20110404T153000Z
LOCATION:Lecture Room H
CONTACT:D. Giaiotti
URL:https://diploma-clear.ictp.it/courses/weekly-schedule/lecture-room-h/esp-eda-26
CLASS:PUBLIC
END:VEVENT
END:VCALENDAR
