BEGIN:VCALENDAR
PRODID:-//AT Content Types//AT Event//EN
VERSION:2.0
METHOD:PUBLISH
BEGIN:VEVENT
DTSTAMP:20260423T235026Z
CREATED:20110118T095809Z
UID:ATEvent-b0b745d442eaeb36e24d8214757fccda
LAST-MODIFIED:20110118T095833Z
SUMMARY:ESP-EDA
DTSTART:20110309T080000Z
DTEND:20110309T093000Z
LOCATION:Lecture Room H
CONTACT:A. Peresan
URL:https://diploma-clear.ictp.it/courses/weekly-schedule/lecture-room-h/esp-eda-18
CLASS:PUBLIC
END:VEVENT
END:VCALENDAR
