BEGIN:VCALENDAR
PRODID:-//AT Content Types//AT Event//EN
VERSION:1.0
BEGIN:VEVENT
DTSTART:20091202T100000Z
DTEND:20091202T113000Z
DCREATED:20090915T094506Z
UID:ATEvent-af2f9194f70e05d90735e3a638ac34e9
SEQUENCE:0
LAST-MODIFIED:20090915T094529Z
SUMMARY:ESP-EDA
LOCATION:Lecture Room H
PRIORITY:3
TRANSP:0
END:VEVENT
END:VCALENDAR
