BEGIN:VCALENDAR
PRODID:-//AT Content Types//AT Event//EN
VERSION:1.0
BEGIN:VEVENT
DTSTART:20220817T070000Z
DTEND:20220817T153000Z
DCREATED:20220729T145435Z
UID:ATEvent-d274ad069967416bb03291259c2c4980
SEQUENCE:0
LAST-MODIFIED:20220729T145453Z
SUMMARY:ESP defenses
LOCATION:Lecture Room H
PRIORITY:3
TRANSP:0
END:VEVENT
END:VCALENDAR
