BEGIN:VCALENDAR
PRODID:-//AT Content Types//AT Event//EN
VERSION:2.0
METHOD:PUBLISH
BEGIN:VEVENT
DTSTAMP:20260422T034640Z
CREATED:20090806T084756Z
UID:ATEvent-456dd690fa88fc30938969ab1eb691a2
LAST-MODIFIED:20090808T092656Z
SUMMARY:ESP defences      A. Amosu\, Y. Birhanu
DTSTART:20090814T070000Z
DTEND:20090814T083000Z
LOCATION:Lecture Room H
URL:https://diploma-clear.ictp.it/courses/weekly-schedule/lecture-room-h/esp-defences-a.-amosu-y.-birhanu
CLASS:PUBLIC
END:VEVENT
END:VCALENDAR
