BEGIN:VCALENDAR
PRODID:-//AT Content Types//AT Event//EN
VERSION:1.0
BEGIN:VEVENT
DTSTART:20090414T090000Z
DTEND:20090414T103000Z
DCREATED:20090116T104323Z
UID:ATEvent-8309185760148f75a7ed47bc6e291b42
SEQUENCE:0
LAST-MODIFIED:20090116T104413Z
SUMMARY:ESP-DA Rdgs.
LOCATION:Lecture Room H
PRIORITY:3
TRANSP:0
END:VEVENT
END:VCALENDAR
