BEGIN:VCALENDAR
PRODID:-//AT Content Types//AT Event//EN
VERSION:2.0
METHOD:PUBLISH
BEGIN:VEVENT
DTSTAMP:20260423T034936Z
CREATED:20090116T094825Z
UID:ATEvent-a9e382cb5677c652f6335358b0c203f0
LAST-MODIFIED:20090116T094957Z
SUMMARY:ESP-DA
DTSTART:20090317T100000Z
DTEND:20090317T113000Z
LOCATION:Lecture Room H
CONTACT:Fred Kucharski
URL:https://diploma-clear.ictp.it/courses/weekly-schedule/lecture-room-h/esp-da-6
CLASS:PUBLIC
END:VEVENT
END:VCALENDAR
