BEGIN:VCALENDAR
PRODID:-//AT Content Types//AT Event//EN
VERSION:1.0
BEGIN:VEVENT
DTSTART:20090312T080000Z
DTEND:20090312T093000Z
DCREATED:20090116T093938Z
UID:ATEvent-239ed94ddb66dc8d4592c856536560a5
SEQUENCE:0
LAST-MODIFIED:20090116T094029Z
SUMMARY:ESP-DA
LOCATION:Lecture Room H
PRIORITY:3
TRANSP:0
END:VEVENT
END:VCALENDAR
