BEGIN:VCALENDAR
PRODID:-//AT Content Types//AT Event//EN
VERSION:2.0
METHOD:PUBLISH
BEGIN:VEVENT
DTSTAMP:20260420T055850Z
CREATED:20090116T093802Z
UID:ATEvent-b912cdd31cfbcdada54e35ae8f674a52
LAST-MODIFIED:20090116T093924Z
SUMMARY:ESP-DA
DTSTART:20090310T080000Z
DTEND:20090310T093000Z
LOCATION:Lecture Room H
CONTACT:Claudio Piani
URL:https://diploma-clear.ictp.it/courses/weekly-schedule/lecture-room-h/esp-da-4
CLASS:PUBLIC
END:VEVENT
END:VCALENDAR
