BEGIN:VCALENDAR
PRODID:-//AT Content Types//AT Event//EN
VERSION:2.0
METHOD:PUBLISH
BEGIN:VEVENT
DTSTAMP:20260423T015952Z
CREATED:20110118T102625Z
UID:ATEvent-1c37057395d6230d6c41a716b3a65ed4
LAST-MODIFIED:20110118T102647Z
SUMMARY:ESP-DA
DTSTART:20110330T090000Z
DTEND:20110330T103000Z
LOCATION:Lecture Room H
CONTACT:F. Kucharski
URL:https://diploma-clear.ictp.it/courses/weekly-schedule/lecture-room-h/esp-da-33
CLASS:PUBLIC
END:VEVENT
END:VCALENDAR
