BEGIN:VCALENDAR
PRODID:-//AT Content Types//AT Event//EN
VERSION:2.0
METHOD:PUBLISH
BEGIN:VEVENT
DTSTAMP:20260423T015931Z
CREATED:20110118T101503Z
UID:ATEvent-228d6f6e46b88178df365ae53668f9d9
LAST-MODIFIED:20110118T101530Z
SUMMARY:ESP-DA
DTSTART:20110325T100000Z
DTEND:20110325T113000Z
LOCATION:Lecture Room H
CONTACT:F. Kucharski
URL:https://diploma-clear.ictp.it/courses/weekly-schedule/lecture-room-h/esp-da-32
CLASS:PUBLIC
END:VEVENT
END:VCALENDAR
