BEGIN:VCALENDAR
PRODID:-//AT Content Types//AT Event//EN
VERSION:2.0
METHOD:PUBLISH
BEGIN:VEVENT
DTSTAMP:20260423T034935Z
CREATED:20110215T163250Z
UID:ATEvent-060c24602592f6b4220aea23f05710af
LAST-MODIFIED:20110215T163506Z
SUMMARY:ESP-CCN
DTSTART:20110516T120000Z
DTEND:20110516T133000Z
LOCATION:Lecture Room H
CONTACT:D. Pernigotti
URL:https://diploma-clear.ictp.it/courses/weekly-schedule/lecture-room-h/esp-cnn-2
CLASS:PUBLIC
END:VEVENT
END:VCALENDAR
