BEGIN:VCALENDAR
PRODID:-//AT Content Types//AT Event//EN
VERSION:2.0
METHOD:PUBLISH
BEGIN:VEVENT
DTSTAMP:20260421T144004Z
CREATED:20171207T124040Z
UID:ATEvent-71bfaefda3b843279441ae97eb4a9145
LAST-MODIFIED:20180220T111032Z
SUMMARY:ESP-CMC
DTSTART:20180302T150000Z
DTEND:20180302T163000Z
LOCATION:Lecture Room H
CONTACT:A. Tompkins
URL:https://diploma-clear.ictp.it/courses/weekly-schedule/lecture-room-h/esp-cmc-10
CLASS:PUBLIC
END:VEVENT
END:VCALENDAR
