BEGIN:VCALENDAR
PRODID:-//AT Content Types//AT Event//EN
VERSION:1.0
BEGIN:VEVENT
DTSTART:20140410T090000Z
DTEND:20140410T103000Z
DCREATED:20140109T103343Z
UID:ATEvent-86896df861c24414809a6f9b0a0a09a7
SEQUENCE:0
LAST-MODIFIED:20140109T103401Z
SUMMARY:ESP-CD
LOCATION:Lecture Room H
PRIORITY:3
TRANSP:0
END:VEVENT
END:VCALENDAR
