BEGIN:VCALENDAR
PRODID:-//AT Content Types//AT Event//EN
VERSION:2.0
METHOD:PUBLISH
BEGIN:VEVENT
DTSTAMP:20260422T072111Z
CREATED:20200922T092624Z
UID:ATEvent-42f3125e141e4a6b9cb41995792e1e7c
LAST-MODIFIED:20200922T092705Z
SUMMARY:ESP-BGC
DTSTART:20201014T120000Z
DTEND:20201014T133000Z
LOCATION:Lecture Room H
CONTACT:C. Solidoro
URL:https://diploma-clear.ictp.it/courses/weekly-schedule/lecture-room-h/esp-bgc-42
CLASS:PUBLIC
END:VEVENT
END:VCALENDAR
