BEGIN:VCALENDAR
PRODID:-//AT Content Types//AT Event//EN
VERSION:2.0
METHOD:PUBLISH
BEGIN:VEVENT
DTSTAMP:20260423T035043Z
CREATED:20191118T091825Z
UID:ATEvent-cdb6b10f81ad451694d43c00bb9a0c73
LAST-MODIFIED:20191212T134830Z
SUMMARY:ESP-BGC
DTSTART:20200330T090000Z
DTEND:20200330T103000Z
LOCATION:Lecture Room H
CONTACT:C. Solidoro
URL:https://diploma-clear.ictp.it/courses/weekly-schedule/lecture-room-h/esp-bgc-23
CLASS:PUBLIC
END:VEVENT
END:VCALENDAR
