BEGIN:VCALENDAR
PRODID:-//AT Content Types//AT Event//EN
VERSION:2.0
METHOD:PUBLISH
BEGIN:VEVENT
DTSTAMP:20260422T024839Z
CREATED:20140207T102545Z
UID:ATEvent-7b1f2a6488214f3aabdd50e38b61faa5
LAST-MODIFIED:20140207T102603Z
SUMMARY:ESP-BC
DTSTART:20140210T130000Z
DTEND:20140210T143000Z
LOCATION:Lecture Room H
CONTACT:F. Solmon
URL:https://diploma-clear.ictp.it/courses/weekly-schedule/lecture-room-h/esp-bc-13
CLASS:PUBLIC
END:VEVENT
END:VCALENDAR
