BEGIN:VCALENDAR
PRODID:-//AT Content Types//AT Event//EN
VERSION:1.0
BEGIN:VEVENT
DTSTART:20200323T130000Z
DTEND:20200323T143000Z
DCREATED:20191212T150820Z
UID:ATEvent-e92ab14681e84981b45c5484820dd3ee
SEQUENCE:0
LAST-MODIFIED:20191212T150841Z
SUMMARY:ESP-APS
LOCATION:Lecture Room H
PRIORITY:3
TRANSP:0
END:VEVENT
END:VCALENDAR
