BEGIN:VCALENDAR
PRODID:-//AT Content Types//AT Event//EN
VERSION:1.0
BEGIN:VEVENT
DTSTART:20101011T140000Z
DTEND:20101011T170000Z
DCREATED:20101012T080927Z
UID:ATEvent-dc3b37aa7a5c8e800c467861f117166b
SEQUENCE:0
LAST-MODIFIED:20101012T081029Z
SUMMARY:ESP
LOCATION:Lecture Room H
PRIORITY:3
TRANSP:0
END:VEVENT
END:VCALENDAR
