BEGIN:VCALENDAR
PRODID:-//AT Content Types//AT Event//EN
VERSION:1.0
BEGIN:VEVENT
DTSTART:20140421T070000Z
DTEND:20140421T083000Z
DCREATED:20140416T130956Z
UID:ATEvent-4f3a7f6a1d9d4561bd333440974a845f
SEQUENCE:0
LAST-MODIFIED:20140416T131018Z
SUMMARY:EASTER  MONDAY
LOCATION:Lecture Room H
PRIORITY:3
TRANSP:0
END:VEVENT
END:VCALENDAR
