BEGIN:VCALENDAR
PRODID:-//AT Content Types//AT Event//EN
VERSION:2.0
METHOD:PUBLISH
BEGIN:VEVENT
DTSTAMP:20260423T035159Z
CREATED:20130308T133459Z
UID:ATEvent-8907200a4c94f25a28301588cfd7e1b0
LAST-MODIFIED:20130308T133559Z
SUMMARY:EASTER MONDAY
DTSTART:20130401T070000Z
DTEND:20130401T083000Z
LOCATION:Lecture Room H
URL:https://diploma-clear.ictp.it/courses/weekly-schedule/lecture-room-h/easter-monday-1
CLASS:PUBLIC
END:VEVENT
END:VCALENDAR
