BEGIN:VCALENDAR
PRODID:-//AT Content Types//AT Event//EN
VERSION:1.0
BEGIN:VEVENT
DTSTART:20081031T130000Z
DTEND:20081031T143000Z
DCREATED:20081009T080924Z
UID:ATEvent-ea73c92869854ef932bb330b0806547b
SEQUENCE:0
LAST-MODIFIED:20081009T100710Z
SUMMARY:HOLIDAY
LOCATION:Lecture Room H
PRIORITY:3
TRANSP:0
END:VEVENT
END:VCALENDAR
