BEGIN:VCALENDAR
PRODID:-//AT Content Types//AT Event//EN
VERSION:2.0
METHOD:PUBLISH
BEGIN:VEVENT
DTSTAMP:20260423T212316Z
CREATED:20090702T071609Z
UID:ATEvent-06e27d865ec3ac6f3f6dfcde5961db49
LAST-MODIFIED:20090702T071648Z
SUMMARY:BP-SSP
DTSTART:20090702T070000Z
DTEND:20090702T083000Z
LOCATION:Lecture Room H
CONTACT:Sandro Scandolo
URL:https://diploma-clear.ictp.it/courses/weekly-schedule/lecture-room-h/bp-ssp-8
CLASS:PUBLIC
END:VEVENT
END:VCALENDAR
