BEGIN:VCALENDAR
PRODID:-//AT Content Types//AT Event//EN
VERSION:1.0
BEGIN:VEVENT
DTSTART:20110623T070000Z
DTEND:20110623T083000Z
DCREATED:20110328T101259Z
UID:ATEvent-b29748732f4b564c4b1edd0a07405eaa
SEQUENCE:0
LAST-MODIFIED:20110328T101321Z
SUMMARY:BP-SSP
LOCATION:Lecture Room H
PRIORITY:3
TRANSP:0
END:VEVENT
END:VCALENDAR
