BEGIN:VCALENDAR
PRODID:-//AT Content Types//AT Event//EN
VERSION:2.0
METHOD:PUBLISH
BEGIN:VEVENT
DTSTAMP:20260423T235153Z
CREATED:20110328T090328Z
UID:ATEvent-1be4d1f4e3cea9f06d7811ab2a611de6
LAST-MODIFIED:20110328T090357Z
SUMMARY:BP-SSP
DTSTART:20110414T070000Z
DTEND:20110414T083000Z
LOCATION:Lecture Room H
CONTACT:S. Scandolo
URL:https://diploma-clear.ictp.it/courses/weekly-schedule/lecture-room-h/bp-ssp-45
CLASS:PUBLIC
END:VEVENT
END:VCALENDAR
