BEGIN:VCALENDAR
PRODID:-//AT Content Types//AT Event//EN
VERSION:1.0
BEGIN:VEVENT
DTSTART:20110404T120000Z
DTEND:20110404T133000Z
DCREATED:20110328T085224Z
UID:ATEvent-8c05ac1f23bb1e4259bf64fe292b5d22
SEQUENCE:0
LAST-MODIFIED:20110328T085251Z
SUMMARY:BP-SSP
LOCATION:Lecture Room H
PRIORITY:3
TRANSP:0
END:VEVENT
END:VCALENDAR
