BEGIN:VCALENDAR
PRODID:-//AT Content Types//AT Event//EN
VERSION:2.0
METHOD:PUBLISH
BEGIN:VEVENT
DTSTAMP:20260421T104601Z
CREATED:20090206T082441Z
UID:ATEvent-8d109d33d4454660c29f049e08cab7a7
LAST-MODIFIED:20090206T082532Z
SUMMARY:BP-SSP
DTSTART:20090526T070000Z
DTEND:20090526T083000Z
LOCATION:Lecture Room H
CONTACT:Sandro Scandolo
URL:https://diploma-clear.ictp.it/courses/weekly-schedule/lecture-room-h/bp-ssp-17
CLASS:PUBLIC
END:VEVENT
END:VCALENDAR
