BEGIN:VCALENDAR
PRODID:-//AT Content Types//AT Event//EN
VERSION:1.0
BEGIN:VEVENT
DTSTART:20090325T080000Z
DTEND:20090325T093000Z
DCREATED:20090205T140509Z
UID:ATEvent-3e812e28f827b074f22bbaae3ebdabe5
SEQUENCE:0
LAST-MODIFIED:20090205T140625Z
SUMMARY:BP-SM
LOCATION:Lecture Room H
PRIORITY:3
TRANSP:0
END:VEVENT
END:VCALENDAR
