BEGIN:VCALENDAR
PRODID:-//AT Content Types//AT Event//EN
VERSION:2.0
METHOD:PUBLISH
BEGIN:VEVENT
DTSTAMP:20260420T190134Z
CREATED:20090326T143555Z
UID:ATEvent-26e567e9a40d3eb96521d2f2ca145aa6
LAST-MODIFIED:20090326T143649Z
SUMMARY:BP-SM tut.
DTSTART:20090526T120000Z
DTEND:20090526T133000Z
LOCATION:Lecture Room H
CONTACT:Pierpaolo Vivo
URL:https://diploma-clear.ictp.it/courses/weekly-schedule/lecture-room-h/bp-sm-tut-7
CLASS:PUBLIC
END:VEVENT
END:VCALENDAR
