BEGIN:VCALENDAR
PRODID:-//AT Content Types//AT Event//EN
VERSION:2.0
METHOD:PUBLISH
BEGIN:VEVENT
DTSTAMP:20260423T035620Z
CREATED:20090326T142433Z
UID:ATEvent-e23e38453fa34896953324b8df20aa61
LAST-MODIFIED:20090326T142530Z
SUMMARY:BP-SM tut.
DTSTART:20090514T090000Z
DTEND:20090514T103000Z
LOCATION:Lecture Room H
CONTACT:Pierpaolo Vivo
URL:https://diploma-clear.ictp.it/courses/weekly-schedule/lecture-room-h/bp-sm-tut-5
CLASS:PUBLIC
END:VEVENT
END:VCALENDAR
