BEGIN:VCALENDAR
PRODID:-//AT Content Types//AT Event//EN
VERSION:2.0
METHOD:PUBLISH
BEGIN:VEVENT
DTSTAMP:20260421T104531Z
CREATED:20090205T151847Z
UID:ATEvent-4218ec5325344b260b1ff1fb9b76bf6a
LAST-MODIFIED:20090205T152011Z
SUMMARY:BP-SM
DTSTART:20090420T070000Z
DTEND:20090420T083000Z
LOCATION:Lecture Room H
CONTACT:Matteo Marsili
URL:https://diploma-clear.ictp.it/courses/weekly-schedule/lecture-room-h/bp-sm-9
CLASS:PUBLIC
END:VEVENT
END:VCALENDAR
