BEGIN:VCALENDAR
PRODID:-//AT Content Types//AT Event//EN
VERSION:2.0
METHOD:PUBLISH
BEGIN:VEVENT
DTSTAMP:20260420T200652Z
CREATED:20110215T154820Z
UID:ATEvent-00bb21967f79e5764fcc6f4a12105bf8
LAST-MODIFIED:20110215T154846Z
SUMMARY:BP-SM
DTSTART:20110527T070000Z
DTEND:20110527T083000Z
LOCATION:Lecture Room H
CONTACT:A. Scardicchio
URL:https://diploma-clear.ictp.it/courses/weekly-schedule/lecture-room-h/bp-sm-84
CLASS:PUBLIC
END:VEVENT
END:VCALENDAR
