BEGIN:VCALENDAR
PRODID:-//AT Content Types//AT Event//EN
VERSION:2.0
METHOD:PUBLISH
BEGIN:VEVENT
DTSTAMP:20260419T220624Z
CREATED:20110215T154532Z
UID:ATEvent-552b60fe63afe6968eeef1f1d9a036c1
LAST-MODIFIED:20110215T154602Z
SUMMARY:BP-SM
DTSTART:20110525T070000Z
DTEND:20110525T083000Z
LOCATION:Lecture Room H
CONTACT:A. Scardicchio
URL:https://diploma-clear.ictp.it/courses/weekly-schedule/lecture-room-h/bp-sm-83
CLASS:PUBLIC
END:VEVENT
END:VCALENDAR
