BEGIN:VCALENDAR
PRODID:-//AT Content Types//AT Event//EN
VERSION:2.0
METHOD:PUBLISH
BEGIN:VEVENT
DTSTAMP:20260419T220704Z
CREATED:20110215T150504Z
UID:ATEvent-fe7c2657cc138b21133a30ea82c82981
LAST-MODIFIED:20110215T150611Z
SUMMARY:BP-SM
DTSTART:20110516T070000Z
DTEND:20110516T083000Z
LOCATION:Lecture Room H
CONTACT:A. Scardicchio
URL:https://diploma-clear.ictp.it/courses/weekly-schedule/lecture-room-h/bp-sm-79
CLASS:PUBLIC
END:VEVENT
END:VCALENDAR
