BEGIN:VCALENDAR
PRODID:-//AT Content Types//AT Event//EN
VERSION:2.0
METHOD:PUBLISH
BEGIN:VEVENT
DTSTAMP:20260420T224456Z
CREATED:20110119T102643Z
UID:ATEvent-0f4b538cf8a0bb313335c83cb9563851
LAST-MODIFIED:20110414T094447Z
SUMMARY:BP-SM
DTSTART:20110418T140000Z
DTEND:20110418T153000Z
LOCATION:Lecture Room H
CONTACT:M. Marsili
URL:https://diploma-clear.ictp.it/courses/weekly-schedule/lecture-room-h/bp-sm-69
CLASS:PUBLIC
END:VEVENT
END:VCALENDAR
