BEGIN:VCALENDAR
PRODID:-//AT Content Types//AT Event//EN
VERSION:1.0
BEGIN:VEVENT
DTSTART:20110415T070000Z
DTEND:20110415T083000Z
DCREATED:20110119T102328Z
UID:ATEvent-5d05994f5f5ce42b3ef7bcf585e57f9d
SEQUENCE:0
LAST-MODIFIED:20110119T102356Z
SUMMARY:BP-SM
LOCATION:Lecture Room H
PRIORITY:3
TRANSP:0
END:VEVENT
END:VCALENDAR
