BEGIN:VCALENDAR
PRODID:-//AT Content Types//AT Event//EN
VERSION:2.0
METHOD:PUBLISH
BEGIN:VEVENT
DTSTAMP:20260419T220716Z
CREATED:20110119T093117Z
UID:ATEvent-1828a443a985bbccd0287ada27c5e48c
LAST-MODIFIED:20110119T093141Z
SUMMARY:BP-SM
DTSTART:20110406T070000Z
DTEND:20110406T083000Z
LOCATION:Lecture Room H
CONTACT:M. Marsili
URL:https://diploma-clear.ictp.it/courses/weekly-schedule/lecture-room-h/bp-sm-64
CLASS:PUBLIC
END:VEVENT
END:VCALENDAR
