BEGIN:VCALENDAR
PRODID:-//AT Content Types//AT Event//EN
VERSION:2.0
METHOD:PUBLISH
BEGIN:VEVENT
DTSTAMP:20260420T030738Z
CREATED:20110118T102906Z
UID:ATEvent-179216714f6960b5014f7f0f838050b9
LAST-MODIFIED:20110118T102946Z
SUMMARY:BP-SM
DTSTART:20110401T070000Z
DTEND:20110401T083000Z
LOCATION:Lecture Room H
CONTACT:M. Marsili
URL:https://diploma-clear.ictp.it/courses/weekly-schedule/lecture-room-h/bp-sm-62
CLASS:PUBLIC
END:VEVENT
END:VCALENDAR
