BEGIN:VCALENDAR
PRODID:-//AT Content Types//AT Event//EN
VERSION:1.0
BEGIN:VEVENT
DTSTART:20090529T070000Z
DTEND:20090529T083000Z
DCREATED:20090220T144841Z
UID:ATEvent-25d0cff3ad22640ba99b52eb1ecb026c
SEQUENCE:0
LAST-MODIFIED:20090525T132731Z
SUMMARY:BP-SM
LOCATION:Lecture Room H
PRIORITY:3
TRANSP:0
END:VEVENT
END:VCALENDAR
