BEGIN:VCALENDAR
PRODID:-//AT Content Types//AT Event//EN
VERSION:1.0
BEGIN:VEVENT
DTSTART:20090619T090000Z
DTEND:20090619T103000Z
DCREATED:20090511T115429Z
UID:ATEvent-703a576efdd8ffb384b79451870c012b
SEQUENCE:0
LAST-MODIFIED:20090511T115514Z
SUMMARY:BP-SM
LOCATION:Lecture Room H
PRIORITY:3
TRANSP:0
END:VEVENT
END:VCALENDAR
