BEGIN:VCALENDAR
PRODID:-//AT Content Types//AT Event//EN
VERSION:1.0
BEGIN:VEVENT
DTSTART:20090422T070000Z
DTEND:20090422T083000Z
DCREATED:20090205T152106Z
UID:ATEvent-fe3dce4bd78e61652f05356df40b385c
SEQUENCE:0
LAST-MODIFIED:20090205T153857Z
SUMMARY:BP-SM
LOCATION:Lecture Room H
PRIORITY:3
TRANSP:0
END:VEVENT
END:VCALENDAR
