BEGIN:VCALENDAR
PRODID:-//AT Content Types//AT Event//EN
VERSION:1.0
BEGIN:VEVENT
DTSTART:20110721T140000Z
DTEND:20110721T153000Z
DCREATED:20110701T152148Z
UID:ATEvent-8c62ffae6b0e399f1c1f1041084aecbc
SEQUENCE:0
LAST-MODIFIED:20110712T133438Z
SUMMARY:BP-RQM
LOCATION:Lecture Room H
PRIORITY:3
TRANSP:0
END:VEVENT
END:VCALENDAR
