BEGIN:VCALENDAR
PRODID:-//AT Content Types//AT Event//EN
VERSION:1.0
BEGIN:VEVENT
DTSTART:20110720T120000Z
DTEND:20110720T133000Z
DCREATED:20110701T152102Z
UID:ATEvent-09ee2927d145c72275acf22d7b4bac3a
SEQUENCE:0
LAST-MODIFIED:20110701T152131Z
SUMMARY:BP-RQM
LOCATION:Lecture Room H
PRIORITY:3
TRANSP:0
END:VEVENT
END:VCALENDAR
