BEGIN:VCALENDAR
PRODID:-//AT Content Types//AT Event//EN
VERSION:1.0
BEGIN:VEVENT
DTSTART:20110708T120000Z
DTEND:20110708T133000Z
DCREATED:20110621T145304Z
UID:ATEvent-433af303d9f0ac2db419816d895b64a5
SEQUENCE:0
LAST-MODIFIED:20110621T145333Z
SUMMARY:BP-RQM
LOCATION:Lecture Room H
PRIORITY:3
TRANSP:0
END:VEVENT
END:VCALENDAR
