BEGIN:VCALENDAR
PRODID:-//AT Content Types//AT Event//EN
VERSION:2.0
METHOD:PUBLISH
BEGIN:VEVENT
DTSTAMP:20260420T190143Z
CREATED:20110621T145223Z
UID:ATEvent-51d7171e0f44893518f501d9c9f5eda9
LAST-MODIFIED:20110621T145250Z
SUMMARY:BP-RQM
DTSTART:20110707T120000Z
DTEND:20110707T133000Z
LOCATION:Lecture Room H
CONTACT:M. Torabian
URL:https://diploma-clear.ictp.it/courses/weekly-schedule/lecture-room-h/bp-rqm-44
CLASS:PUBLIC
END:VEVENT
END:VCALENDAR
