BEGIN:VCALENDAR
PRODID:-//AT Content Types//AT Event//EN
VERSION:1.0
BEGIN:VEVENT
DTSTART:20110630T090000Z
DTEND:20110630T103000Z
DCREATED:20110621T143201Z
UID:ATEvent-7f30e2e3d40d3758a2b571c6c04b7119
SEQUENCE:0
LAST-MODIFIED:20110621T143228Z
SUMMARY:BP-RQM
LOCATION:Lecture Room H
PRIORITY:3
TRANSP:0
END:VEVENT
END:VCALENDAR
