BEGIN:VCALENDAR
PRODID:-//AT Content Types//AT Event//EN
VERSION:2.0
METHOD:PUBLISH
BEGIN:VEVENT
DTSTAMP:20260420T155028Z
CREATED:20090223T145445Z
UID:ATEvent-6e5226d4afd695ebdfee4c86ee01aa9c
LAST-MODIFIED:20090223T145555Z
SUMMARY:BP-RQM
DTSTART:20090713T090000Z
DTEND:20090713T103000Z
LOCATION:Lecture Room H
CONTACT:Mahdi Torabian
URL:https://diploma-clear.ictp.it/courses/weekly-schedule/lecture-room-h/bp-rqm-4
CLASS:PUBLIC
END:VEVENT
END:VCALENDAR
