BEGIN:VCALENDAR
PRODID:-//AT Content Types//AT Event//EN
VERSION:1.0
BEGIN:VEVENT
DTSTART:20110624T120000Z
DTEND:20110624T133000Z
DCREATED:20110621T121325Z
UID:ATEvent-49b93ecdc86b45dda9d2e91241dcb36a
SEQUENCE:0
LAST-MODIFIED:20110621T122140Z
SUMMARY:BP-RQM
LOCATION:Lecture Room H
PRIORITY:3
TRANSP:0
END:VEVENT
END:VCALENDAR
