BEGIN:VCALENDAR
PRODID:-//AT Content Types//AT Event//EN
VERSION:1.0
BEGIN:VEVENT
DTSTART:20090203T163000Z
DTEND:20090203T180000Z
DCREATED:20081125T150921Z
UID:ATEvent-8feebe6949318bab314d72fa7f618568
SEQUENCE:0
LAST-MODIFIED:20081125T151000Z
SUMMARY:BP-QM tut.
LOCATION:Lecture Room H
PRIORITY:3
TRANSP:0
END:VEVENT
END:VCALENDAR
