BEGIN:VCALENDAR
PRODID:-//AT Content Types//AT Event//EN
VERSION:1.0
BEGIN:VEVENT
DTSTART:20101005T120000Z
DTEND:20101005T133000Z
DCREATED:20100917T103544Z
UID:ATEvent-02098b53315dcac5f30fbbf98cbf3876
SEQUENCE:0
LAST-MODIFIED:20100917T103610Z
SUMMARY:BP-QM tut.
LOCATION:Lecture Room H
PRIORITY:3
TRANSP:0
END:VEVENT
END:VCALENDAR
